BEGIN:VCALENDAR
VERSION:2.0
PRODID:-//Loulakis.gr - ECPv6.15.20//NONSGML v1.0//EN
CALSCALE:GREGORIAN
METHOD:PUBLISH
X-ORIGINAL-URL:https://loulakis.gr
X-WR-CALDESC:Events for Loulakis.gr
REFRESH-INTERVAL;VALUE=DURATION:PT1H
X-Robots-Tag:noindex
X-PUBLISHED-TTL:PT1H
BEGIN:VTIMEZONE
TZID:Europe/Athens
BEGIN:DAYLIGHT
TZOFFSETFROM:+0200
TZOFFSETTO:+0300
TZNAME:EEST
DTSTART:20150329T010000
END:DAYLIGHT
BEGIN:STANDARD
TZOFFSETFROM:+0300
TZOFFSETTO:+0200
TZNAME:EET
DTSTART:20151025T010000
END:STANDARD
BEGIN:DAYLIGHT
TZOFFSETFROM:+0200
TZOFFSETTO:+0300
TZNAME:EEST
DTSTART:20160327T010000
END:DAYLIGHT
BEGIN:STANDARD
TZOFFSETFROM:+0300
TZOFFSETTO:+0200
TZNAME:EET
DTSTART:20161030T010000
END:STANDARD
BEGIN:DAYLIGHT
TZOFFSETFROM:+0200
TZOFFSETTO:+0300
TZNAME:EEST
DTSTART:20170326T010000
END:DAYLIGHT
BEGIN:STANDARD
TZOFFSETFROM:+0300
TZOFFSETTO:+0200
TZNAME:EET
DTSTART:20171029T010000
END:STANDARD
END:VTIMEZONE
BEGIN:VEVENT
DTSTART;TZID=Europe/Athens:20160214T110000
DTEND;TZID=Europe/Athens:20160214T130000
DTSTAMP:20260426T035857
CREATED:20160204T160102Z
LAST-MODIFIED:20160204T160102Z
UID:14420-1455447600-1455454800@loulakis.gr
SUMMARY:Μάθημα ζωγραφικής στο Εθνικό Αρχαιολογικό Μουσείο
DESCRIPTION:“Το Εργαστήρι Σχεδίου” διοργανώνει διοργανώνει εκπαιδευτική επίσκεψη σε συνδυασμό με μάθημα ζωγραφικής για τα παιδιά που συμμετέχουν στο παιδικό εργαστήρι\, στο Εθνικό Αρχαιολογικό Μουσείο Αθηνών\, στην οδό Πατησίων 44. Κατά τη διάρκεια της επίσκεψης οι μαθητές θα έχουν την ευκαιρία όχι μόνο να περιηγηθούν ανάμεσα στα εκθέματα αλλά και να ζωγραφίσουν. \nΤο Εθνικό Αρχαιολογικό Μουσείο είναι το μεγαλύτερο μουσείο της Ελλάδας και ένα από τα σημαντικότερα του κόσμου. Οι πλούσιες συλλογές του\, που απαριθμούν περισσότερα από 11.000 εκθέματα\, προσφέρουν στον επισκέπτη ένα πανόραμα του αρχαίου ελληνικού πολιτισμού από τις αρχές της προϊστορίας έως την ύστερη αρχαιότητα. \nΤο μουσείο στεγάζεται στο επιβλητικό νεοκλασικό κτίριο\, που οικοδομήθηκε στα τέλη του 19ου αιώνα σε σχέδια του L. Lange και τελικά διαμορφώθηκε από τον Ernst Ziller. Οι εκθεσιακοί χώροι του\, δεκάδες αίθουσες σε κάθε όροφο\, καλύπτουν έκταση 8.000 τ.μ. και στεγάζουν τις πέντε μεγάλες μόνιμες συλλογές: \n\nΤη Συλλογή Προϊστορικών Αρχαιοτήτων\, που περιλαμβάνει έργα των μεγάλων πολιτισμών που αναπτύχθηκαν στο Αιγαίο από την 6η χιλιετία έως το 1050 π.Χ. (νεολιθικού\, κυκλαδικού και μυκηναϊκού) και ευρήματα από τον προϊστορικό οικισμό της Θήρας.\nΤη Συλλογή Έργων Γλυπτικής\, που παρουσιάζει την εξέλιξη της αρχαίας ελληνικής γλυπτικής από τον 7ο αι. π.Χ. έως τον 5ο αι. μ.Χ.\, μέσα από μοναδικά έργα τέχνης.\nΤη Συλλογή Αγγείων και Μικροτεχνίας\, που περιλαμβάνει αντιπροσωπευτικά έργα της αρχαίας ελληνικής κεραμικής από τον 11ο αι. π.Χ. έως και τη ρωμαϊκή εποχή\, καθώς και και τη Συλλογή Σταθάτου\, μια διαχρονική συλλογή μικροτεχνημάτων.\nΤη Συλλογή Έργων Μεταλλοτεχνίας με πολλά μοναδικά πρωτότυπα έργα\, αγάλματα\, ειδώλια και έργα μικροτεχνίας.\nΤέλος\, τη μοναδική για την Ελλάδα Συλλογή Αιγυπτιακών και Ανατολικών Αρχαιοτήτων με έργα τέχνης\, που χρονολογούνται από την προδυναστική περίοδο (5000 π.Χ.) έως και τους χρόνους της ρωμαϊκής κατάκτησης.\n\n*Η είσοδος για τους μαθητές μας είναι ελεύθερη ενώ για τους γονείς/συνοδούς θα υπάρχει έκπτωση 50% από την αρχική τιμή του εισιτηρίου: τιμή 3€  \n\n 
URL:https://loulakis.gr/event/ekpedeftiki-episkepsi-sto-archeologiko-mouseio-2016/
CATEGORIES:Event
ATTACH;FMTTYPE=:
END:VEVENT
END:VCALENDAR